BEGIN:VCALENDAR
VERSION:2.0
PRODID:-//eventon.com NONSGML v1.0//EN
CALSCALE:GREGORIAN
METHOD:PUBLISH
BEGIN:VEVENT
UID:69e789e5e9a90
DTSTAMP:20260421T142957Z
DTSTART:20210509T092000Z
DTEND:20210509T105000Z
LOCATION:ATV Sorok között Lutter Imrével)
SUMMARY:Németh Kristóf a Sorok között
DESCRIPTION:Németh Kristóf a Sorok között Lutter Imrével &#8211; SZOMB
 ATON este 22:20-kor az ATV-n! Németh Kristóf\,  akit számos sorozat fős
 zereplőjeként\,  a legkülönbözőbb karakterekbe bújva ismernek a néz
 ők\,  először beszél kendőzetlenül arról az időszakáról\,  amikor
  egyszerre omlott össze a szakmai és a magánélete\,  s arról\,  hogyan
  jelentett kiutat a válságából Reményik Sándor[..]\nhttps://lutterimr
 e.hu/events/nemeth-kristof-a-sorok-kozott/
URL:https://lutterimre.hu/events/nemeth-kristof-a-sorok-kozott/
END:VEVENT
END:VCALENDAR